BEGIN:VCALENDAR
VERSION:2.0
PRODID:-//Julie Lefebure - ECPv6.15.20//NONSGML v1.0//EN
CALSCALE:GREGORIAN
METHOD:PUBLISH
X-WR-CALNAME:Julie Lefebure
X-ORIGINAL-URL:https://www.julielefebure.com
X-WR-CALDESC:Events for Julie Lefebure
REFRESH-INTERVAL;VALUE=DURATION:PT1H
X-Robots-Tag:noindex
X-PUBLISHED-TTL:PT1H
BEGIN:VTIMEZONE
TZID:America/Chicago
BEGIN:DAYLIGHT
TZOFFSETFROM:-0600
TZOFFSETTO:-0500
TZNAME:CDT
DTSTART:20210314T080000
END:DAYLIGHT
BEGIN:STANDARD
TZOFFSETFROM:-0500
TZOFFSETTO:-0600
TZNAME:CST
DTSTART:20211107T070000
END:STANDARD
BEGIN:DAYLIGHT
TZOFFSETFROM:-0600
TZOFFSETTO:-0500
TZNAME:CDT
DTSTART:20220313T080000
END:DAYLIGHT
BEGIN:STANDARD
TZOFFSETFROM:-0500
TZOFFSETTO:-0600
TZNAME:CST
DTSTART:20221106T070000
END:STANDARD
BEGIN:DAYLIGHT
TZOFFSETFROM:-0600
TZOFFSETTO:-0500
TZNAME:CDT
DTSTART:20230312T080000
END:DAYLIGHT
BEGIN:STANDARD
TZOFFSETFROM:-0500
TZOFFSETTO:-0600
TZNAME:CST
DTSTART:20231105T070000
END:STANDARD
BEGIN:DAYLIGHT
TZOFFSETFROM:-0600
TZOFFSETTO:-0500
TZNAME:CDT
DTSTART:20240310T080000
END:DAYLIGHT
BEGIN:STANDARD
TZOFFSETFROM:-0500
TZOFFSETTO:-0600
TZNAME:CST
DTSTART:20241103T070000
END:STANDARD
END:VTIMEZONE
BEGIN:VEVENT
DTSTART;TZID=America/Chicago:20230421T100000
DTEND;TZID=America/Chicago:20230421T113000
DTSTAMP:20260419T222928
CREATED:20230401T150241Z
LAST-MODIFIED:20230416T175021Z
UID:41297-1682071200-1682076600@www.julielefebure.com
SUMMARY:Coffee and Conversation April 21
DESCRIPTION:Coffee and Conversation April 21\nLooking for a smaller gathering to connect with other women and be encouraged in truth? Come to Coffee and Conversation April 21! \nAs we girls gather over coffee\, tea\, or some other yummy drink in Scooters’ private room\, we will enjoy connecting and finding encouragement through each other and God’s Word\, the Bible. A casual time of conversation and getting to know each other better will be filled with much hope and joy. You’ll leave encouraged and equipped\, ready to make a difference in this world. \nCome for as long as your schedule allows for coffee\, conversation\, connection and community. Feel free to purchase a beverage and/or food as well\, but it’s not required. \nAlso\, if you normally don’t like going to places or events alone\, please know many of us will be showing up by ourselves. It’s okay! You’ll feel welcomed and loved\, minus any sort of awkwardness in coming by yourself. You’ll be in good company! \nI can’t wait to have coffee and conversation with you! If you can\, let me know you’re coming! \nI’ll see you then! \n \n \nAccess my free encouraging Resources such as printables\, lock screens\, bookmarks\, scavenger hunts\, and social posts here!
URL:https://www.julielefebure.com/event/coffee-and-conversation-april-21/
LOCATION:Scooters Coffee Edgewood\, 2300 Edgewood Rd SW\, Cedar Rapids\, IA\, 52404\, United States
CATEGORIES:Coffee and Conversation
ATTACH;FMTTYPE=image/jpeg:https://www.julielefebure.com/wp-content/uploads/2023/04/Coffee-and-Conversation.jpg
ORGANIZER;CN="Julie Lefebure":MAILTO:julie.lefebure@gmail.com
END:VEVENT
BEGIN:VEVENT
DTSTART;TZID=America/Chicago:20230330T183000
DTEND;TZID=America/Chicago:20230330T203000
DTSTAMP:20260419T222928
CREATED:20221207T194227Z
LAST-MODIFIED:20230313T162827Z
UID:40899-1680201000-1680208200@www.julielefebure.com
SUMMARY:Bloom Where You Are Planted
DESCRIPTION:Bloom where you are planted. It isn’t just a cute saying in springtime\, no. But it’s an abundant way to live! \nSometimes we wish we were planted elsewhere\, or we look at where someone else is planted and we desire that space instead. Sometimes we don’t feel equipped to bloom or we’re too busy looking at how others are blooming. Or sometimes we don’t feel our blooming is enough… pretty enough\, powerful enough\, or good enough. The thing is\, nothing could be farther from the truth. \nGod call us to bloom where we are planted.\nRight where He has us. \nThis is the subject of our next women’s event\, Real Encouragement LIVE! You’ll find this uplifting evening full of hope\, inspiration\, and practical helps to live the abundant life God calls us to. \nReceive encouragement for your real life LIVE!\nBecause encouragement matters in this life. \nAs we gather together\, we will learn God’s truths about blooming where He has planted us and why this matters. We will also be reminded of how to fully embrace the life He has given us and how to better live in the moments we’re blessed with. Because blooming matters… to us\, to others\, and to God! It’s going to be a great evening together\, and you’ll leave feeling uplifted\, empowered\, and encouraged. \nYou will also enjoy: \n\nfellowship with other women like you who desire connection\nBiblical teaching and truth\ntime to laugh\, smile\, and take a breath\ntaking time for you\, to further equip you for this adventure of life\nRoscoe’s Pizza for dinner\, so don’t eat beforehand!\n\nCome join us! \nBloom where you are planted\, friend!\nTickets and additional details are below. \n  \nFor more ways to stay encouraged\, check out my Free Resources such as lock screens\, printables\, bookmarks\, and social posts. All free for you! \n(This event is formerly known as BYOB and B.)
URL:https://www.julielefebure.com/event/bloom-where-you-are-planted/
LOCATION:A Place 4 Friends\, 212 Edgewood Road NW\, Cedar Rapids\, IA\, 52405\, United States
CATEGORIES:Real Encouragement LIVE!
ATTACH;FMTTYPE=image/jpeg:https://www.julielefebure.com/wp-content/uploads/2022/12/Bloom-Where-You-Are-Planted-960-x-600-.jpg
ORGANIZER;CN="Julie Lefebure":MAILTO:julie.lefebure@gmail.com
END:VEVENT
BEGIN:VEVENT
DTSTART;TZID=America/Chicago:20221208T183000
DTEND;TZID=America/Chicago:20221208T203000
DTSTAMP:20260419T222928
CREATED:20221110T221939Z
LAST-MODIFIED:20221111T182333Z
UID:40797-1670524200-1670531400@www.julielefebure.com
SUMMARY:'Tis The Season To Be...
DESCRIPTION:We know what the Christmas carol says\, “‘Tis the season to be…jolly.” Right?? \nWe know this\, yet why is the Christmas season not always this way? Why is it filled with stress\, busyness\, and grief so often instead? Why is it sometimes anything–and everything–but jolly? \nWell\, we have a choice in the matter\, and a we are on a mission to change that this year. We are embracing this season in an entirely new way! A way that allows space for some jolly! Want to join us in this mission? \nCome to our next Real Encouragement LIVE! to prepare your heart for the holiday! \n‘Tis the season to be…\nYes\, jolly! \nFind out how and why this matters\, receive timely encouragement\, an infusion of hope\, and connection with other women who desire a wonderful holiday season like you. \nReceive encouragement for your real life LIVE!\nBecause encouragement matters in this life. \nGod offers us help and hope\, and as we gather together\, we will learn His truths about this season and why it all matters. We will be reminded of how to embrace this season with renewed awe and wonder\, instead of with all the glitter and tinsel the world offers. It’s going to be a great evening together\, and you’ll leave feeling uplifted\, empowered\, and encouraged. \nYou will also enjoy: \n\nfellowship with other women like you who desire connection\nBiblical teaching and truth\ntime to laugh\, smile\, and take a breath\ntaking time for you\, to further equip you for this adventure of life\nan abundance of festive treats and snacks\n\nCome join us! \nTickets and additional details are below. \n \nFor more ways to stay encouraged\, check out my Free Resources such as lock screens\, printables\, bookmarks\, and social posts. All free for you! \n(This event is formerly known as BYOB and B.) \n  \n 
URL:https://www.julielefebure.com/event/tis-the-season-to-be/
LOCATION:A Place 4 Friends\, 212 Edgewood Road NW\, Cedar Rapids\, IA\, 52405\, United States
CATEGORIES:Real Encouragement LIVE!
ATTACH;FMTTYPE=image/jpeg:https://www.julielefebure.com/wp-content/uploads/2022/11/Tis-the-season-to-be-with-lights900-x-600-1.jpg
ORGANIZER;CN="Julie Lefebure":MAILTO:julie.lefebure@gmail.com
END:VEVENT
BEGIN:VEVENT
DTSTART;TZID=America/Chicago:20220929T183000
DTEND;TZID=America/Chicago:20220929T203000
DTSTAMP:20260419T222928
CREATED:20220905T225549Z
LAST-MODIFIED:20230313T162927Z
UID:40651-1664476200-1664483400@www.julielefebure.com
SUMMARY:Why Am I So Distracted?
DESCRIPTION:Do you ever feel like you’re consistently so distracted and can’t stay focused? \nMaybe you feel like you keep spinning your wheels\, but you’re not getting anywhere? \nOr maybe you feel like life is passing you by\, and you don’t understand why? \nAnd you wonder… \nWhy am I so distracted??\nWell\, hang in there\, because even when we feel like any of these\, we still have hope. Even though we live in a distraction-filled world\, we don’t have to live so distracted. \nThis is the subject of our next Bring Your Own Bible and Bestie event! \nAnd you’re invited! \nReceive encouragement for your real life LIVE!\nBecause encouragement matters in this life! \nGod offers us help and hope\, and as we gather together\, we will learn His truths about distractions and living well. And we will understand how we can live every day in His good purposes and plans for our lives.  It’s going to be a great evening together\, and you’ll leave feeling uplifted\, empowered\, and encouraged. \nYou will also enjoy: \n\nfellowship with other women like you who desire connection\nBiblical teaching and truth\ntime to laugh\, smile\, and take a breath\ntaking time for you\, to further equip you for this adventure of life\nan abundance of snacks and bottled water\n\nCome join us! \nTickets and additional details are below. \n \nFeel free to access Julie’s Free Resources of encouragement prior to the event by clicking here. \nCan’t wait to see you soon!
URL:https://www.julielefebure.com/event/why-am-i-so-distracted/
LOCATION:A Place 4 Friends\, 212 Edgewood Road NW\, Cedar Rapids\, IA\, 52405\, United States
CATEGORIES:Bring Your Own Bible and Bestie
ATTACH;FMTTYPE=image/png:https://www.julielefebure.com/wp-content/uploads/2022/09/Why-Am-I-So-Distracted.png
ORGANIZER;CN="Julie Lefebure":MAILTO:julie.lefebure@gmail.com
END:VEVENT
BEGIN:VEVENT
DTSTART;TZID=America/Chicago:20220627T183000
DTEND;TZID=America/Chicago:20220627T203000
DTSTAMP:20260419T222928
CREATED:20220510T212137Z
LAST-MODIFIED:20220626T021628Z
UID:40311-1656354600-1656361800@www.julielefebure.com
SUMMARY:Today Is for Living Abundantly
DESCRIPTION:Today is a gift. \nAnd\, today is all we’ve got.\nYesterday is passed\, and tomorrow isn’t here yet. \nGod gives us each day to live it abundantly. But some days we’re distracted and discouraged. Some days we are weary and worn out. And some days we wonder if anything we’re doing is making any sort of difference in this world. \nSome days we are either living in the past\, or we’re looking toward the future. Consequently\, we miss what’s happening right in front of us. So\, how do we live in the moment right now? \nWe want to stay present\, we do! But that can be easier said than done\, right? Then\, how do we make the most of today? How do we live it–and every day–abundantly? How do we embrace each moment we are given? \nThis is the subject of our next Bring Your Own Bible and Bestie event!\nAnd you’re invited! Receive encouragement for your real life LIVE! \nWe’ll get a chance to encourage one another while looking at what God has to say about today and how we can live abundantly through His grace. We will have a great time together\, and you’ll leave feeling uplifted\, empowered\, and encouraged. \nYou will also enjoy: \n\nfellowship with other women like you who desire connection\nBiblical teaching and truth\ntime to laugh\, smile\, and take a breath\ntaking time for you\, to further equip you for this adventure of life\nan abundance of snacks and bottled water\n\nCome join us! \nTickets and additional details are below. \nFeel free to access Julie’s Free Resources of encouragement prior to the event by clicking here. \n 
URL:https://www.julielefebure.com/event/today-is-for-living-abundantly/
LOCATION:The Woodbridge Building\, 501 Front Drive\, Toddville\, IA\, United States
CATEGORIES:Bring Your Own Bible and Bestie
ATTACH;FMTTYPE=image/png:https://www.julielefebure.com/wp-content/uploads/2022/05/Today-is-for-living-abundantly-no-details.png
ORGANIZER;CN="Julie Lefebure":MAILTO:julie.lefebure@gmail.com
END:VEVENT
BEGIN:VEVENT
DTSTART;TZID=America/Chicago:20220502T183000
DTEND;TZID=America/Chicago:20220502T203000
DTSTAMP:20260419T222928
CREATED:20220411T231804Z
LAST-MODIFIED:20220605T184607Z
UID:40162-1651516200-1651523400@www.julielefebure.com
SUMMARY:Our Thoughts
DESCRIPTION:Our thoughts… are they helpful or hurtful?\n\n\n\n\n\nGod gave us the amazing ability to think\, to reason\, and to ponder. He formed our brains amazingly! So much so\, our thoughts are incredibly powerful. We know our thoughts have the ability to influence our words\, our attitudes\, and our actions. But\, they also can affect health\, our outlook on life\, how we feel about ourselves and others\, and how we spend our time. Oftentimes\, however\, we don’t even think about our thoughts. (That’s a strange thought in itself.) We just think what we think\, right? So\, since our thoughts are powerful\, it stands to reason that what we think does matter. \n\n\n\nAre our thoughts helpful or hurtful? \n\n\n\nThis is the subject of our next Bring Your Own Bible and Bestie event! And you’re invited! \n\n\n\nWe’ll get a chance to encourage one another while looking at what God has to say about our thoughts. I promise we’ll have a great time together! You’ll leave uplifted\, empowered\, and encouraged. You will enjoy: \n\n\n\n\nFellowship with other women like you who desire connection\nBiblical teaching and truth\nTime to laugh\, smile\, and take a breath\nTaking time for you\, to further equip you for this adventure of life\n\n\n\n\nCome join us! \nWe will not have a meal at this event\, but we will have snacks. We will no longer be able to bring our own beverages. Bottled water\, however\, is okay to bring.  \n\n\n\n\n\n\nTickets and details are below.\n \n\n\n\n\n 
URL:https://www.julielefebure.com/event/our-thoughts/
LOCATION:The Woodbridge Building\, 501 Front Drive\, Toddville\, IA\, United States
CATEGORIES:Bring Your Own Bible and Bestie
ATTACH;FMTTYPE=image/png:https://www.julielefebure.com/wp-content/uploads/2022/03/Our-Thoughts-Helpful-Hurtful.png
ORGANIZER;CN="Julie Lefebure":MAILTO:julie.lefebure@gmail.com
END:VEVENT
END:VCALENDAR